BEGIN:VCALENDAR
VERSION:2.0
PRODID:-//jEvents 2.0 for Joomla//EN
CALSCALE:GREGORIAN
METHOD:PUBLISH
BEGIN:VTIMEZONE
TZID:Europe/Berlin
END:VTIMEZONE
BEGIN:VEVENT
UID:a7cc467e324079ba9016b740042d105f
CATEGORIES:DEFAULT
CREATED:20250307T110318
SUMMARY:3. Plattenhardter Pflanzentauschbörse
LOCATION:Im Hof der Kunstschule\, Schulstraße\, Plattenhardt
DESCRIPTION:Sie haben gesät und zu viele Setzlinge, wollen die Pflänzchen aber nicht au
 f dem Kompost entsorgen? Tauschregeln: Sie können kostenlos Pflanzen bringe
 n und / oder holen. Unsere Pflanzentauschbörse soll dazu beitragen, dass Fi
 lderstadt nach 50 Jahren weiter grünt und blüht.\nOhne Anmeldung.\nDie Vera
 nstaltung findet im Rahmen des Stadtjubiläums statt.\n
X-ALT-DESC;FMTTYPE=text/html:<p>Sie haben gesät und zu viele Setzlinge, wollen die Pflänzchen aber nicht
  auf dem Kompost entsorgen? Tauschregeln: Sie können kostenlos Pflanzen bri
 ngen und / oder holen. Unsere Pflanzentauschbörse soll dazu beitragen, dass
  Filderstadt nach 50 Jahren weiter grünt und blüht.</p><p>Ohne Anmeldung.</
 p><p>Die Veranstaltung findet im Rahmen des Stadtjubiläums statt.</p>
X-EXTRAINFO:Obst- und Gartenbauverein Plattenhardt e. V. 
DTSTAMP:20260419T143408
DTSTART;TZID=Europe/Berlin:20250510T090000
DTEND;TZID=Europe/Berlin:20250510T130000
SEQUENCE:0
TRANSP:OPAQUE
END:VEVENT
END:VCALENDAR