BEGIN:VCALENDAR
VERSION:2.0
PRODID:-//jEvents 2.0 for Joomla//EN
CALSCALE:GREGORIAN
METHOD:PUBLISH
BEGIN:VTIMEZONE
TZID:Europe/Berlin
END:VTIMEZONE
BEGIN:VEVENT
UID:5ef6a8801a9f15786bd08a5a6ce77694
CATEGORIES:DEFAULT
CREATED:20250307T104014
SUMMARY:Steinkäuze hautnah - Streuobstwiese spielerisch erleben
LOCATION:Abhängig vom aktuellen Brutvorkommen - Bekanntgabe bei Anmeldung
DESCRIPTION:Wir entdecken das Innenleben einer Steinkauz-Brutröhre, können die Jungtier
 e aus nächster Nähe ansehen und anfassen. Auf spielerische Weise erkunden w
 ir die ökologischen Zusammenhänge einer Obstwiese und schließen ab mit eine
 r Lesung. Für Kinder von 9 bis12 Jahren\nReferent: Werner Kneule/Umweltschu
 tzreferat\nMaximale Teilnehmerzahl: 16 Kinder\nGebührenfrei, Anmeldung erfo
 rderlich.\nDie Veranstaltung findet im Rahmen des Stadtjubiläums statt.\n
X-ALT-DESC;FMTTYPE=text/html:<p>Wir entdecken das Innenleben einer Steinkauz-Brutröhre, können die Jungt
 iere aus nächster Nähe ansehen und anfassen. Auf spielerische Weise erkunde
 n wir die ökologischen Zusammenhänge einer Obstwiese und schließen ab mit e
 iner Lesung. Für Kinder von 9 bis12 Jahren</p><p>Referent: Werner Kneule/Um
 weltschutzreferat</p><p>Maximale Teilnehmerzahl: 16 Kinder</p><p>Gebührenfr
 ei, Anmeldung erforderlich.</p><p>Die Veranstaltung findet im Rahmen des St
 adtjubiläums statt.</p>
CONTACT:www.vhs-filderstadt.de
X-EXTRAINFO:Kooperation des Umweltschutzreferates mit der VHS Filderstadt
DTSTAMP:20260419T135708
DTSTART;TZID=Europe/Berlin:20250523T153000
DTEND;TZID=Europe/Berlin:20250523T180000
SEQUENCE:0
TRANSP:OPAQUE
END:VEVENT
END:VCALENDAR